BEGIN:VCALENDAR
VERSION:2.0
PRODID:-//M&ouml;rrums kulturf&ouml;rening - ECPv6.15.20//NONSGML v1.0//EN
CALSCALE:GREGORIAN
METHOD:PUBLISH
X-ORIGINAL-URL:https://morrumskulturforening.se
X-WR-CALDESC:Händelser för M&ouml;rrums kulturf&ouml;rening
REFRESH-INTERVAL;VALUE=DURATION:PT1H
X-Robots-Tag:noindex
X-PUBLISHED-TTL:PT1H
BEGIN:VTIMEZONE
TZID:Europe/Stockholm
BEGIN:DAYLIGHT
TZOFFSETFROM:+0100
TZOFFSETTO:+0200
TZNAME:CEST
DTSTART:20240331T010000
END:DAYLIGHT
BEGIN:STANDARD
TZOFFSETFROM:+0200
TZOFFSETTO:+0100
TZNAME:CET
DTSTART:20241027T010000
END:STANDARD
BEGIN:DAYLIGHT
TZOFFSETFROM:+0100
TZOFFSETTO:+0200
TZNAME:CEST
DTSTART:20250330T010000
END:DAYLIGHT
BEGIN:STANDARD
TZOFFSETFROM:+0200
TZOFFSETTO:+0100
TZNAME:CET
DTSTART:20251026T010000
END:STANDARD
BEGIN:DAYLIGHT
TZOFFSETFROM:+0100
TZOFFSETTO:+0200
TZNAME:CEST
DTSTART:20260329T010000
END:DAYLIGHT
BEGIN:STANDARD
TZOFFSETFROM:+0200
TZOFFSETTO:+0100
TZNAME:CET
DTSTART:20261025T010000
END:STANDARD
END:VTIMEZONE
BEGIN:VEVENT
DTSTART;TZID=Europe/Stockholm:20250928T180000
DTEND;TZID=Europe/Stockholm:20250928T194300
DTSTAMP:20260420T184830
CREATED:20250827T190456Z
LAST-MODIFIED:20250827T192750Z
UID:186-1759082400-1759088580@morrumskulturforening.se
SUMMARY:Bio - MIN OVÄNTADE BROR
DESCRIPTION:(Courcol\, Frankrike 2024. 103 min. 7 år.)\nThibaut är en hyllad dirigent som lever för sin konst. Hans tillvaro vänds upp\noch ned när han drabbas av leukemi och samtidigt får veta att han är adopterad\noch har en bror. Bröderna har nästan inget gemensamt\, förutom musik. Snart är\ndirigenten på repetition med en amatörmässig blåsorkester på en nedläggnings\nhotad fabrik i en nordfransk småstad. Detta socialrealistiska feelgood-drama är en\nförtjusande korsning mellan ”Brassed off” och ”En oväntad vänskap”. \n  \nMedlemskap i filmstudion\nberättigar till fri entré på alla filmerna.\nMedlemskort kostar 200:-. och löses på biografen. \nUpplysningar:\nElisabeth Fridén\, ordförande\n076 84 54 706
URL:https://morrumskulturforening.se/event/bio-min-ovantade-bror/
LOCATION:Mörrums Folkets hus\, Parkvägen 19\, Mörrum\, 37530\, Sweden
END:VEVENT
END:VCALENDAR