BEGIN:VCALENDAR
VERSION:2.0
PRODID:-//M&ouml;rrums kulturf&ouml;rening - ECPv6.15.20//NONSGML v1.0//EN
CALSCALE:GREGORIAN
METHOD:PUBLISH
X-WR-CALNAME:M&ouml;rrums kulturf&ouml;rening
X-ORIGINAL-URL:https://morrumskulturforening.se
X-WR-CALDESC:Händelser för M&ouml;rrums kulturf&ouml;rening
REFRESH-INTERVAL;VALUE=DURATION:PT1H
X-Robots-Tag:noindex
X-PUBLISHED-TTL:PT1H
BEGIN:VTIMEZONE
TZID:Europe/Stockholm
BEGIN:DAYLIGHT
TZOFFSETFROM:+0100
TZOFFSETTO:+0200
TZNAME:CEST
DTSTART:20240331T010000
END:DAYLIGHT
BEGIN:STANDARD
TZOFFSETFROM:+0200
TZOFFSETTO:+0100
TZNAME:CET
DTSTART:20241027T010000
END:STANDARD
BEGIN:DAYLIGHT
TZOFFSETFROM:+0100
TZOFFSETTO:+0200
TZNAME:CEST
DTSTART:20250330T010000
END:DAYLIGHT
BEGIN:STANDARD
TZOFFSETFROM:+0200
TZOFFSETTO:+0100
TZNAME:CET
DTSTART:20251026T010000
END:STANDARD
BEGIN:DAYLIGHT
TZOFFSETFROM:+0100
TZOFFSETTO:+0200
TZNAME:CEST
DTSTART:20260329T010000
END:DAYLIGHT
BEGIN:STANDARD
TZOFFSETFROM:+0200
TZOFFSETTO:+0100
TZNAME:CET
DTSTART:20261025T010000
END:STANDARD
END:VTIMEZONE
BEGIN:VEVENT
DTSTART;TZID=Europe/Stockholm:20251012T180000
DTEND;TZID=Europe/Stockholm:20251012T202100
DTSTAMP:20260420T171029
CREATED:20250827T190833Z
LAST-MODIFIED:20250827T192212Z
UID:189-1760292000-1760300460@morrumskulturforening.se
SUMMARY:Bio - A COMPLETE UNKNOWN
DESCRIPTION:(Mangold\, USA 2024. 141 min. 7 år.)\nDenna åttafaldigt Oscarsnominerade filmbiografi berättar om Bob Dylans\nsextiotal. Hur han kommer till New York\, blir en del av en pulserande musikscen\,\nfrustreras av folkmusikrörelsen och förändrar amerikansk populärkultur för alltid.\nTimothée Chalamet har hyllats för sin fina gestaltning av Dylan\, inte minst sång\nmässigt. Alla skådespelare i filmen sjunger med sina egna röster och gör denna\nfilm till ett måste för både yngre och äldre Dylan-fans. \n  \nMedlemskap i filmstudion\nberättigar till fri entré på alla filmerna.\nMedlemskort kostar 200:-. och löses på biografen. \nUpplysningar:\nElisabeth Fridén\, ordförande\n076 84 54 706
URL:https://morrumskulturforening.se/event/bio-a-complete-unknown/
LOCATION:Mörrums Folkets hus\, Parkvägen 19\, Mörrum\, 37530\, Sweden
END:VEVENT
END:VCALENDAR