BEGIN:VCALENDAR
VERSION:2.0
PRODID:-//M&ouml;rrums kulturf&ouml;rening - ECPv6.15.20//NONSGML v1.0//EN
CALSCALE:GREGORIAN
METHOD:PUBLISH
X-ORIGINAL-URL:https://morrumskulturforening.se
X-WR-CALDESC:Händelser för M&ouml;rrums kulturf&ouml;rening
REFRESH-INTERVAL;VALUE=DURATION:PT1H
X-Robots-Tag:noindex
X-PUBLISHED-TTL:PT1H
BEGIN:VTIMEZONE
TZID:Europe/Stockholm
BEGIN:DAYLIGHT
TZOFFSETFROM:+0100
TZOFFSETTO:+0200
TZNAME:CEST
DTSTART:20240331T010000
END:DAYLIGHT
BEGIN:STANDARD
TZOFFSETFROM:+0200
TZOFFSETTO:+0100
TZNAME:CET
DTSTART:20241027T010000
END:STANDARD
BEGIN:DAYLIGHT
TZOFFSETFROM:+0100
TZOFFSETTO:+0200
TZNAME:CEST
DTSTART:20250330T010000
END:DAYLIGHT
BEGIN:STANDARD
TZOFFSETFROM:+0200
TZOFFSETTO:+0100
TZNAME:CET
DTSTART:20251026T010000
END:STANDARD
BEGIN:DAYLIGHT
TZOFFSETFROM:+0100
TZOFFSETTO:+0200
TZNAME:CEST
DTSTART:20260329T010000
END:DAYLIGHT
BEGIN:STANDARD
TZOFFSETFROM:+0200
TZOFFSETTO:+0100
TZNAME:CET
DTSTART:20261025T010000
END:STANDARD
END:VTIMEZONE
BEGIN:VEVENT
DTSTART;TZID=Europe/Stockholm:20251026T180000
DTEND;TZID=Europe/Stockholm:20251026T200300
DTSTAMP:20260420T171359
CREATED:20250827T191112Z
LAST-MODIFIED:20250827T192237Z
UID:191-1761501600-1761508980@morrumskulturforening.se
SUMMARY:Bio - FLICKAN MED NÅLEN
DESCRIPTION:(Von Horn\, Danmark/Sverige/Polen 2025. 123 min. 15 år.)\nÅrets danska Oscarsbidrag utspelar sig i Köpenhamn efter första världskriget.\nKaroline är en ung\, fattig fabriksarbetare som blivit gravid men förlorat sin\nmake. Hon möter den karismatiska Dagmar\, som driver en hemlig adoptions\nbyrå och hjälper fattiga mammor att hitta fosterhem åt sina oönskade barn. Ett\nstarkt band knyts mellan de två kvinnorna\, men Karolines värld slås i spillror när\nhon gör en fruktansvärd upptäckt. Detta gripande drama väcker både medlidande och frågor. \n  \nMedlemskap i filmstudion\nberättigar till fri entré på alla filmerna.\nMedlemskort kostar 200:-. och löses på biografen. \nUpplysningar:\nElisabeth Fridén\, ordförande\n076 84 54 706
URL:https://morrumskulturforening.se/event/bio-flickan-med-nalen/
LOCATION:Mörrums Folkets hus\, Parkvägen 19\, Mörrum\, 37530\, Sweden
END:VEVENT
END:VCALENDAR