BEGIN:VCALENDAR
VERSION:2.0
PRODID:-//M&ouml;rrums kulturf&ouml;rening - ECPv6.15.20//NONSGML v1.0//EN
CALSCALE:GREGORIAN
METHOD:PUBLISH
X-WR-CALNAME:M&ouml;rrums kulturf&ouml;rening
X-ORIGINAL-URL:https://morrumskulturforening.se
X-WR-CALDESC:Händelser för M&ouml;rrums kulturf&ouml;rening
REFRESH-INTERVAL;VALUE=DURATION:PT1H
X-Robots-Tag:noindex
X-PUBLISHED-TTL:PT1H
BEGIN:VTIMEZONE
TZID:Europe/Stockholm
BEGIN:DAYLIGHT
TZOFFSETFROM:+0100
TZOFFSETTO:+0200
TZNAME:CEST
DTSTART:20240331T010000
END:DAYLIGHT
BEGIN:STANDARD
TZOFFSETFROM:+0200
TZOFFSETTO:+0100
TZNAME:CET
DTSTART:20241027T010000
END:STANDARD
BEGIN:DAYLIGHT
TZOFFSETFROM:+0100
TZOFFSETTO:+0200
TZNAME:CEST
DTSTART:20250330T010000
END:DAYLIGHT
BEGIN:STANDARD
TZOFFSETFROM:+0200
TZOFFSETTO:+0100
TZNAME:CET
DTSTART:20251026T010000
END:STANDARD
BEGIN:DAYLIGHT
TZOFFSETFROM:+0100
TZOFFSETTO:+0200
TZNAME:CEST
DTSTART:20260329T010000
END:DAYLIGHT
BEGIN:STANDARD
TZOFFSETFROM:+0200
TZOFFSETTO:+0100
TZNAME:CET
DTSTART:20261025T010000
END:STANDARD
END:VTIMEZONE
BEGIN:VEVENT
DTSTART;TZID=Europe/Stockholm:20251108T190000
DTEND;TZID=Europe/Stockholm:20251108T223000
DTSTAMP:20260420T152952
CREATED:20250626T074505Z
LAST-MODIFIED:20250827T192849Z
UID:167-1762628400-1762641000@morrumskulturforening.se
SUMMARY:La Bohème - Opera live på bio
DESCRIPTION:Börjar 19.00 – längd 3 timmar och 29 minuter inkl två pauser. \nMed sin förtrollande miljö och oförglömliga musik är La Bohème en av världens mest älskade operor. Franco Zeffirellis klassiska uppsättning återger 1800-talets Paris i all dess charm och romantik\, där unga bohemer kämpar med kärlek och livets hårda realiteter. Live på bio 8 november. \n 
URL:https://morrumskulturforening.se/event/la-boheme-live-pa-bio/
LOCATION:Mörrums Folkets hus\, Parkvägen 19\, Mörrum\, 37530\, Sweden
END:VEVENT
END:VCALENDAR