BEGIN:VCALENDAR
VERSION:2.0
PRODID:-//M&ouml;rrums kulturf&ouml;rening - ECPv6.15.20//NONSGML v1.0//EN
CALSCALE:GREGORIAN
METHOD:PUBLISH
X-WR-CALNAME:M&ouml;rrums kulturf&ouml;rening
X-ORIGINAL-URL:https://morrumskulturforening.se
X-WR-CALDESC:Händelser för M&ouml;rrums kulturf&ouml;rening
REFRESH-INTERVAL;VALUE=DURATION:PT1H
X-Robots-Tag:noindex
X-PUBLISHED-TTL:PT1H
BEGIN:VTIMEZONE
TZID:Europe/Stockholm
BEGIN:DAYLIGHT
TZOFFSETFROM:+0100
TZOFFSETTO:+0200
TZNAME:CEST
DTSTART:20240331T010000
END:DAYLIGHT
BEGIN:STANDARD
TZOFFSETFROM:+0200
TZOFFSETTO:+0100
TZNAME:CET
DTSTART:20241027T010000
END:STANDARD
BEGIN:DAYLIGHT
TZOFFSETFROM:+0100
TZOFFSETTO:+0200
TZNAME:CEST
DTSTART:20250330T010000
END:DAYLIGHT
BEGIN:STANDARD
TZOFFSETFROM:+0200
TZOFFSETTO:+0100
TZNAME:CET
DTSTART:20251026T010000
END:STANDARD
BEGIN:DAYLIGHT
TZOFFSETFROM:+0100
TZOFFSETTO:+0200
TZNAME:CEST
DTSTART:20260329T010000
END:DAYLIGHT
BEGIN:STANDARD
TZOFFSETFROM:+0200
TZOFFSETTO:+0100
TZNAME:CET
DTSTART:20261025T010000
END:STANDARD
END:VTIMEZONE
BEGIN:VEVENT
DTSTART;TZID=Europe/Stockholm:20251109T180000
DTEND;TZID=Europe/Stockholm:20251109T193800
DTSTAMP:20260420T153039
CREATED:20250827T191304Z
LAST-MODIFIED:20250827T192332Z
UID:193-1762711200-1762717080@morrumskulturforening.se
SUMMARY:Bio - EN LITEN BIT AV KAKAN
DESCRIPTION:(Moghaddam/Sanaeeha\, Frankrike/Tyskland/Iran/Sverige 2024. 98 min. 7 år.)\nÄnkan Mahin lever ett värdigt men ensamt tantliv i Teheran. Moralpolis och gran\nnar ser till att ingen rör sig utanför sina givna ramar. En eftermiddag med vänner\nfår henne att bryta sin ensamma rutin och återuppliva sitt kärleksliv. När Mahin\nöppnar upp sig för en ny romans\, utvecklas det som börjar som ett oväntat möte\nsnabbt till en oförutsägbar\, oförglömlig kväll. Denna briljanta film lyckas både\nfånga förälskelsens väsen och skildra ett skuggsamhälle och dess mörka historia. \n  \nMedlemskap i filmstudion\nberättigar till fri entré på alla filmerna.\nMedlemskort kostar 200:-. och löses på biografen. \nUpplysningar:\nElisabeth Fridén\, ordförande\n076 84 54 706
URL:https://morrumskulturforening.se/event/bio-en-liten-bit-av-kakan/
LOCATION:Mörrums Folkets hus\, Parkvägen 19\, Mörrum\, 37530\, Sweden
END:VEVENT
END:VCALENDAR