BEGIN:VCALENDAR
VERSION:2.0
PRODID:-//M&ouml;rrums kulturf&ouml;rening - ECPv6.15.20//NONSGML v1.0//EN
CALSCALE:GREGORIAN
METHOD:PUBLISH
X-ORIGINAL-URL:https://morrumskulturforening.se
X-WR-CALDESC:Händelser för M&ouml;rrums kulturf&ouml;rening
REFRESH-INTERVAL;VALUE=DURATION:PT1H
X-Robots-Tag:noindex
X-PUBLISHED-TTL:PT1H
BEGIN:VTIMEZONE
TZID:Europe/Stockholm
BEGIN:DAYLIGHT
TZOFFSETFROM:+0100
TZOFFSETTO:+0200
TZNAME:CEST
DTSTART:20240331T010000
END:DAYLIGHT
BEGIN:STANDARD
TZOFFSETFROM:+0200
TZOFFSETTO:+0100
TZNAME:CET
DTSTART:20241027T010000
END:STANDARD
BEGIN:DAYLIGHT
TZOFFSETFROM:+0100
TZOFFSETTO:+0200
TZNAME:CEST
DTSTART:20250330T010000
END:DAYLIGHT
BEGIN:STANDARD
TZOFFSETFROM:+0200
TZOFFSETTO:+0100
TZNAME:CET
DTSTART:20251026T010000
END:STANDARD
BEGIN:DAYLIGHT
TZOFFSETFROM:+0100
TZOFFSETTO:+0200
TZNAME:CEST
DTSTART:20260329T010000
END:DAYLIGHT
BEGIN:STANDARD
TZOFFSETFROM:+0200
TZOFFSETTO:+0100
TZNAME:CET
DTSTART:20261025T010000
END:STANDARD
BEGIN:DAYLIGHT
TZOFFSETFROM:+0100
TZOFFSETTO:+0200
TZNAME:CEST
DTSTART:20270328T010000
END:DAYLIGHT
BEGIN:STANDARD
TZOFFSETFROM:+0200
TZOFFSETTO:+0100
TZNAME:CET
DTSTART:20271031T010000
END:STANDARD
END:VTIMEZONE
BEGIN:VEVENT
DTSTART;TZID=Europe/Stockholm:20251108T190000
DTEND;TZID=Europe/Stockholm:20251108T223000
DTSTAMP:20260420T215745
CREATED:20250626T074505Z
LAST-MODIFIED:20250827T192849Z
UID:167-1762628400-1762641000@morrumskulturforening.se
SUMMARY:La Bohème - Opera live på bio
DESCRIPTION:Börjar 19.00 – längd 3 timmar och 29 minuter inkl två pauser. \nMed sin förtrollande miljö och oförglömliga musik är La Bohème en av världens mest älskade operor. Franco Zeffirellis klassiska uppsättning återger 1800-talets Paris i all dess charm och romantik\, där unga bohemer kämpar med kärlek och livets hårda realiteter. Live på bio 8 november. \n 
URL:https://morrumskulturforening.se/event/la-boheme-live-pa-bio/
LOCATION:Mörrums Folkets hus\, Parkvägen 19\, Mörrum\, 37530\, Sweden
END:VEVENT
BEGIN:VEVENT
DTSTART;TZID=Europe/Stockholm:20251109T180000
DTEND;TZID=Europe/Stockholm:20251109T193800
DTSTAMP:20260420T215745
CREATED:20250827T191304Z
LAST-MODIFIED:20250827T192332Z
UID:193-1762711200-1762717080@morrumskulturforening.se
SUMMARY:Bio - EN LITEN BIT AV KAKAN
DESCRIPTION:(Moghaddam/Sanaeeha\, Frankrike/Tyskland/Iran/Sverige 2024. 98 min. 7 år.)\nÄnkan Mahin lever ett värdigt men ensamt tantliv i Teheran. Moralpolis och gran\nnar ser till att ingen rör sig utanför sina givna ramar. En eftermiddag med vänner\nfår henne att bryta sin ensamma rutin och återuppliva sitt kärleksliv. När Mahin\nöppnar upp sig för en ny romans\, utvecklas det som börjar som ett oväntat möte\nsnabbt till en oförutsägbar\, oförglömlig kväll. Denna briljanta film lyckas både\nfånga förälskelsens väsen och skildra ett skuggsamhälle och dess mörka historia. \n  \nMedlemskap i filmstudion\nberättigar till fri entré på alla filmerna.\nMedlemskort kostar 200:-. och löses på biografen. \nUpplysningar:\nElisabeth Fridén\, ordförande\n076 84 54 706
URL:https://morrumskulturforening.se/event/bio-en-liten-bit-av-kakan/
LOCATION:Mörrums Folkets hus\, Parkvägen 19\, Mörrum\, 37530\, Sweden
END:VEVENT
BEGIN:VEVENT
DTSTART;TZID=Europe/Stockholm:20251122T190000
DTEND;TZID=Europe/Stockholm:20251122T231200
DTSTAMP:20260420T215745
CREATED:20250626T074930Z
LAST-MODIFIED:20250626T074930Z
UID:169-1763838000-1763853120@morrumskulturforening.se
SUMMARY:Arabella - Opera live på bio
DESCRIPTION:Börjar kl 19.00 – längd 4 timmar 0ch 12 minuter inkl. två pauser \nStrauss eleganta kärlekshistoria Arabella utspelar sig i 1800-talets Wien och kommer till liv i Otto Schenks praktfulla produktion\, hyllad för sin skönhet och charm. 22 november har du chans att uppleva den live på bio i Sverige
URL:https://morrumskulturforening.se/event/arabella-opera-live-pa-bio/
LOCATION:Mörrums Folkets hus\, Parkvägen 19\, Mörrum\, 37530\, Sweden
END:VEVENT
BEGIN:VEVENT
DTSTART;TZID=Europe/Stockholm:20251123T180000
DTEND;TZID=Europe/Stockholm:20251123T194600
DTSTAMP:20260420T215745
CREATED:20250827T191514Z
LAST-MODIFIED:20250827T191514Z
UID:195-1763920800-1763927160@morrumskulturforening.se
SUMMARY:Bio -  KONSTEN ATT GRÅTA I KÖR
DESCRIPTION:(Schønau Fog\, Danmark 2008. 106 min. 15 år.)\nVad gör man om ens pappa ständigt gråter och hotar att ta livet av sig? Man för\nsöker trösta honom. Det gör 11-årige huvudpersonen Allan i denna filmatisering\nav Erling Jepsens hyllade roman. Här får vi se hur långt barn är beredda att gå för\natt skydda sina föräldrar\, nästan oavsett hur illa de än blir behandlade. ”Konsten\natt gråta i kör” börjar som en lite absurd uppväxtskildring à la Milos Forman\, men\nblir allt mörkare ju längre in i familjedramat man kommer. \n  \nMedlemskap i filmstudion\nberättigar till fri entré på alla filmerna.\nMedlemskort kostar 200:-. och löses på biografen \n  \nUpplysningar:\nElisabeth Fridén\, ordförande\n076 84 54 706
URL:https://morrumskulturforening.se/event/bio-konsten-att-grata-i-kor/
LOCATION:Mörrums Folkets hus\, Parkvägen 19\, Mörrum\, 37530\, Sweden
END:VEVENT
BEGIN:VEVENT
DTSTART;TZID=Europe/Stockholm:20251207T180000
DTEND;TZID=Europe/Stockholm:20251207T195100
DTSTAMP:20260420T215745
CREATED:20250827T191727Z
LAST-MODIFIED:20250827T191727Z
UID:197-1765130400-1765137060@morrumskulturforening.se
SUMMARY:Bio - THE PENGUIN LESSONS
DESCRIPTION:(Cattaneo\, Spanien/Storbritannien 2025. 111 min. 7 år.)\nDen buttre brittiske läraren Tom (Steve Coogan) tar jobb på en internatskola i Ar\ngentina 1976 – samma år som militärjuntan tar makten i landet. När han räddar\nen pingvin från oljedöden får han en vän för livet\, en vän som efter hand får en\neffekt på hela Toms skola. Samtidigt skruvar diktaturen åt förtrycket och prö\nvar Tom. Hur mycket är han beredd att riskera? Filmen bygger på Tom Michells\nsanna och hjärtvärmande bok ”Pingvinlektionerna” från 2015. Svenske Björn\nGustafsson spelar rollen som en av lärarna \nMedlemskap i filmstudion\nberättigar till fri entré på alla filmerna.\nMedlemskort kostar 200:-. och löses på biografen \nUpplysningar:\nElisabeth Fridén\, ordförande\n076 84 54 706 \n  \n 
URL:https://morrumskulturforening.se/event/bio-the-penguin-lessons/
LOCATION:Mörrums Folkets hus\, Parkvägen 19\, Mörrum\, 37530\, Sweden
END:VEVENT
BEGIN:VEVENT
DTSTART;TZID=Europe/Stockholm:20260110T190000
DTEND;TZID=Europe/Stockholm:20260110T224700
DTSTAMP:20260420T215745
CREATED:20250626T075335Z
LAST-MODIFIED:20250626T080019Z
UID:171-1768071600-1768085220@morrumskulturforening.se
SUMMARY:I Puritani - Opera live på bio
DESCRIPTION:Börjar kl 19.00 – längd 3 timmar och 47 minuter inkl. en paus \nBellinis sista opera bjuder på fängslande melodier och spektakulär koloratur. Met presenterar en ny\, storslagen produktion av I Puritani\, den första på nästan 50 år. 10 januari 2026 visas den live på bio i Sverige.
URL:https://morrumskulturforening.se/event/i-puritani-opera-live-pa-bio/
LOCATION:Mörrums Folkets hus\, Parkvägen 19\, Mörrum\, 37530\, Sweden
END:VEVENT
BEGIN:VEVENT
DTSTART;TZID=Europe/Stockholm:20260321T170000
DTEND;TZID=Europe/Stockholm:20260321T221200
DTSTAMP:20260420T215745
CREATED:20250626T075538Z
LAST-MODIFIED:20260308T154352Z
UID:173-1774112400-1774131120@morrumskulturforening.se
SUMMARY:Tristan & Isolde - Opera live på bio
DESCRIPTION:Börjar kl 17.00 – längd 5 timmar och 12 minuter inkl. två pauser \nEfter många års väntan debuterar Lise Davidsen i en av operavärldens mest krävande roller: Isolde i Wagners mästerverk om kärlek och död. Nu kan du uppleva den live på bio i Sverige\, 21 mars 2026.
URL:https://morrumskulturforening.se/event/tristan-isolde-opera-live-pa-bio/
LOCATION:Mörrums Folkets hus\, Parkvägen 19\, Mörrum\, 37530\, Sweden
END:VEVENT
BEGIN:VEVENT
DTSTART;TZID=Europe/Stockholm:20260502T190000
DTEND;TZID=Europe/Stockholm:20260502T230500
DTSTAMP:20260420T215745
CREATED:20250626T075758Z
LAST-MODIFIED:20250626T075758Z
UID:175-1777748400-1777763100@morrumskulturforening.se
SUMMARY:Eugene Onegin - Opera live på bio
DESCRIPTION:Börjar kl 19.00 – längd 4 timmar och 5 minuter inkl. två pauser \nTjajkovskijs romantiska opera kommer till liv i Deborah Warners vackra produktion. Asmik Grigorian återvänder som Tatjana\, den unga hjältinnan som förälskar sig i Onegin. Visas live på bio den 2 maj 2026.
URL:https://morrumskulturforening.se/event/eugene-onegin-opera-live-pa-bio/
LOCATION:Mörrums Folkets hus\, Parkvägen 19\, Mörrum\, 37530\, Sweden
END:VEVENT
END:VCALENDAR